BEGIN:VCALENDAR
VERSION:2.0
PRODID:-//Foerderkreis für krebskranke Kinder im Allgaeu e.V.//foerderkreis-krebskranker-kinder-allgaeu.de//DE
CALSCALE:GREGORIAN
BEGIN:VEVENT
DTSTART:20260517T093000
DTEND:20260517T180000
LOCATION:Rammingen
DTSTAMP:20260423T160959
SUMMARY:Skylinepark
URL;VALUE=URI:https://www.foerderkreis-krebskranker-kinder-allgaeu.de/termine/details/skylinepark-26/
DESCRIPTION:Diesmal wollen wir den Skylinepark in Bad Wörishofen bei hoffentlich bestem Wetter im Frühling besuchen!\nWir treffen uns um 9:45 am Eingang, damit wir hoffentlich schnell alle in den Park starten können. (Kinder unter 1,10m müssen nachgemessen werden - das dauert leider etwas)\nUm vorauss. 13:00 treffen wir uns zum Kaffee und gemeinsamen Austausch bei der Alm - gerne bekommt ihr dort eine Waffel und ein Getränk für jedes Familienmitglied (Bedarf wird kurz vorher verbindlich abgefragt, da es extra für uns vorbereitet wird).\nWir übernehmen für euch den Eintritt und 1 Getränk + Gebäck beim Treffen. Bitte denkt also an ausreichend weitere Getränke und Essen bzw. Geld für den Tag. Der Park schließt um 18:00 Uhr ( Achtung - in der Einladung steht Mittagessen, das ist leider nicht richtig!)\nFreunde/Großeltern/Tante, Onkel und co. dürfen leider nur nach vorheriger Absprache und Zusage mit - sonst muss eine eigene Eintrittskarte vor Ort gekauft werden!\nEinladung\n
UID:20260423T160959-20260517T093000-20260517T180000
END:VEVENT
END:VCALENDAR